BEGIN:VCALENDAR
VERSION:2.0
PRODID:-//SVP Oberwil-Lieli //NONSGML Events //EN
CALSCALE:GREGORIAN
X-WR-CALNAME:SVP Oberwil-Lieli
BEGIN:VEVENT
CREATED:20251229T044552Z
UID:1435
DTEND:20260501T200000
DTSTART:20260501T190000
DTSTAMP:20260423T144911Z
LOCATION:Casino Bremgarten
DESCRIPTION:2026 Einladung Maitagung Mit Ueli Maurer, alt Bundesrat Anmeldung via 
SUMMARY:Maitagung &#8211\; SVP Bezirk Bremgarten
ORGANIZER:
URL;VALUE=URI:https://www.svp-oberwil-lieli.ch/termine/maitagung-svp-bezirk-bremgarten-3/
TRANSP:OPAQUE
END:VEVENT
END:VCALENDAR
